BEGIN:VCALENDAR
VERSION:2.0
PRODID:-//VCRP - ECPv6.15.20//NONSGML v1.0//EN
CALSCALE:GREGORIAN
METHOD:PUBLISH
X-ORIGINAL-URL:https://www.vcrp.de
X-WR-CALDESC:Veranstaltungen für VCRP
REFRESH-INTERVAL;VALUE=DURATION:PT1H
X-Robots-Tag:noindex
X-PUBLISHED-TTL:PT1H
BEGIN:VTIMEZONE
TZID:Europe/Helsinki
BEGIN:DAYLIGHT
TZOFFSETFROM:+0200
TZOFFSETTO:+0300
TZNAME:EEST
DTSTART:20230326T010000
END:DAYLIGHT
BEGIN:STANDARD
TZOFFSETFROM:+0300
TZOFFSETTO:+0200
TZNAME:EET
DTSTART:20231029T010000
END:STANDARD
BEGIN:DAYLIGHT
TZOFFSETFROM:+0200
TZOFFSETTO:+0300
TZNAME:EEST
DTSTART:20240331T010000
END:DAYLIGHT
BEGIN:STANDARD
TZOFFSETFROM:+0300
TZOFFSETTO:+0200
TZNAME:EET
DTSTART:20241027T010000
END:STANDARD
BEGIN:DAYLIGHT
TZOFFSETFROM:+0200
TZOFFSETTO:+0300
TZNAME:EEST
DTSTART:20250330T010000
END:DAYLIGHT
BEGIN:STANDARD
TZOFFSETFROM:+0300
TZOFFSETTO:+0200
TZNAME:EET
DTSTART:20251026T010000
END:STANDARD
END:VTIMEZONE
BEGIN:VEVENT
DTSTART;TZID=Europe/Helsinki:20240723T150000
DTEND;TZID=Europe/Helsinki:20240723T160000
DTSTAMP:20260424T121948
CREATED:20240618T163105Z
LAST-MODIFIED:20240723T121101Z
UID:144635-1721746800-1721750400@www.vcrp.de
SUMMARY:Didaktisches Design von OpenOlat Kursen
DESCRIPTION:Wie plant und entwickelt man didaktisch sinnvolle Online-Kurse mit OpenOlat?\nAnmeldeschluss: 17. Juli 2024 oder beim Erreichen der Höchstteilnehmerzahl \nDer Termin ist bereits ausgebucht. Aber am 7.8.2024  11:00 – 12:00 Uhr gibt es einen Zusatztermin des Webinars. \nOpenOlat bietet viele Möglichkeit für die Entwicklung und Gestaltung von digitaler Lehre. Aber wo kann man starten? Welche Workflows haben sich eventuell in den lezten Jahre geändert? Und wie kommt man möglichst effektiv zu einem didaktisch gestalteten Online-Kurs? Diesen Fragen geht das Webinar nach. Sie erhalten Tipps wie man in 10 Schritten zu einem didaktisch gestalteten OpenOlat Kurs für die Lehre gelangt. \nIm Webinar werden u.a. folgende Themen angesprochen:\n\nWas meint didaktisches Design?\nVon der Planung\, über die Umsetzung bis zur Durchführung und Evaluation\nSpezifische Aspekte bei der Nutzung von OpenOlat für die Erstellung von Online-Kursen\nTipps aus der Praxis\n\nUnd natürlich können Sie auch Ihre Fragen zu den einzelnen Schritten einbringen. \nZielgruppe\nDie synchrone Online-Veranstaltunge richtet sich an OpenOlatAutor*innen\, die einen systematischen Weg zur Kurserstellung kennenlernen möchten. Erste Kenntnisse und Erfahrungen sind sinnvoll aber nicht zwingend. Sie benötigen allerdings einen Zugang zur Autoren-Community des VCRP. \nReferentin\nDr. Sabine Hemsing \nOnline-Umgebung\nDie Veranstaltung wird direkt in der OpenOlat Autoren-Community durchgeführt und nutzt das virtuelle Klassenzimmer BigBlueButton. Weitere Informationen zu den Webinaren der VCRP E-Cademy finden Sie hier. \nBitte beachten Sie unbedingt die technischen Hinweise und sorgen Sie im Vorfeld für eine funktionierende Technik. Während des Webinars kann kein individueller technischer Support geleistet werden. \nAnmeldung\nLoggen Sie sich in OpenOlat ein und melden Sie sich direkt in der VCRP Autoren-Community an.
URL:https://www.vcrp.de/veranstaltung/online-kurs-design-mit-openolat/
LOCATION:Online Lernraum
CATEGORIES:Webinar
ATTACH;FMTTYPE=image/jpeg:https://www.vcrp.de/wp-content/uploads/thought-2123970_640-1.jpg
ORGANIZER;CN="VCRP &#8211%3B Sabine Hemsing":MAILTO:hemsing@vcrp.de
END:VEVENT
END:VCALENDAR